BEGIN:VCALENDAR
VERSION:2.0
PRODID:-//Reformierte Kirche Seengen//NONSGML kigkonsult.se iCalcreator 2.1
 6.12//
METHOD:PUBLISH
X-MS-OLK-FORCEINSPECTOROPEN:TRUE
BEGIN:VEVENT
UID:20260423T122650CEST-8830zhovf7@Reformierte Kirche Seengen
DTSTAMP:20260423T102650Z
DESCRIPTION:Thema «Meine Lieblingsgeschichte». Erzählungen aus Büchern\, Fi
 lmen\, Liedern oder Gedichten begleiten uns durchs Leben. An diesem Vormit
 tag teilen wir Lieblingsgeschichten aus verschiedenen Lebensphasen und ent
 decken\, was sie uns bis heute bedeuten. Eintritt frei\, ohne Anmeldung. M
 oderation: Edita Geiger und Jan Niemeier.
DTSTART:20260425T100000
DTEND:20260425T120000
LOCATION:Bibliothek Seengen
ORGANIZER:MAILTO:Reformierte Kirche Seengen <info@kirche-seengen.ch>
SUMMARY:Erzählcafé
END:VEVENT
END:VCALENDAR
