BEGIN:VCALENDAR
VERSION:2.0
PRODID:-//Reformierte Kirche Seengen//NONSGML kigkonsult.se iCalcreator 2.1
 6.12//
METHOD:PUBLISH
X-MS-OLK-FORCEINSPECTOROPEN:TRUE
BEGIN:VEVENT
UID:20260423T123116CEST-0807C73Kl4@Reformierte Kirche Seengen
DTSTAMP:20260423T103116Z
DESCRIPTION:«Dem inneren Weg folgen»\n\nLeitung und Moderation: Pfarrer Jan
  Niemeier.\n
DTSTART:20260414T200000
DTEND:20260414T213000
ORGANIZER:MAILTO:Reformierte Kirche Seengen <info@kirche-seengen.ch>
SUMMARY:#theophilos
END:VEVENT
END:VCALENDAR
