BEGIN:VCALENDAR
VERSION:2.0
PRODID:-//Reformierte Kirche Seengen//NONSGML kigkonsult.se iCalcreator 2.1
 6.12//
METHOD:PUBLISH
X-MS-OLK-FORCEINSPECTOROPEN:TRUE
BEGIN:VEVENT
UID:20260423T122602CEST-2763gXFA87@Reformierte Kirche Seengen
DTSTAMP:20260423T102602Z
DESCRIPTION:Musik für Alphorn\, Orgel und Klavier – Lisa Stoll und Fabienne
  Romer\n\nWarme Töne des Alphorns treffen auf die farbenreiche Klangfülle 
 der Orgel. Zwei Instrumente mit gegensätzlichem Aufbau – viele Pfeifen hie
 r\, eine einzige dort – treten in einen lebendigen Dialog. Ergänzt wird di
 e besondere Klangfarbe durch die glockenklare Stimme von Fabienne Romer. E
 intritt frei\, Kollekte\, vorgängig Musikgottesdienst.
DTSTART:20260426T110000
DTEND:20260426T120000
LOCATION:Ref. Kirche Seengen
ORGANIZER:MAILTO:Reformierte Kirche Seengen <info@kirche-seengen.ch>
SUMMARY:Frühlingskonzert Frühlingskonzert mit Lisa Stoll und Fabienne Romer
END:VEVENT
END:VCALENDAR
