BEGIN:VCALENDAR
VERSION:2.0
PRODID:-//Reformierte Kirche Seengen//NONSGML kigkonsult.se iCalcreator 2.1
 6.12//
METHOD:PUBLISH
X-MS-OLK-FORCEINSPECTOROPEN:TRUE
BEGIN:VEVENT
UID:20260423T122650CEST-6887vtALBz@Reformierte Kirche Seengen
DTSTAMP:20260423T102650Z
DESCRIPTION:Der Kirchenchor Seengen unter der Leitung von Cristina Rosário 
 stellt die Passionsgeschichte dar. Die 12 Choräle der Matthäus-Passion von
  Johann Sebastian Bach werden verbunden mit Texten des Evangelisten und Vo
 kal- und Instrumentalsätzen verschiedener Komponisten. Eintritt ist frei –
  Kollekte.
DTSTART:20260402T193000
DTEND:20260402T203000
LOCATION:Ref. Kirche Seengen
ORGANIZER:MAILTO:Reformierte Kirche Seengen <info@kirche-seengen.ch>
SUMMARY:Passionskonztert an Gründonnerstag
END:VEVENT
END:VCALENDAR
