BEGIN:VCALENDAR
VERSION:2.0
PRODID:-//Reformierte Kirche Seengen//NONSGML kigkonsult.se iCalcreator 2.1
 6.12//
METHOD:PUBLISH
X-MS-OLK-FORCEINSPECTOROPEN:TRUE
BEGIN:VEVENT
UID:20260423T110104CEST-9800TcuL01@Reformierte Kirche Seengen
DTSTAMP:20260423T090104Z
DESCRIPTION:Thema: «Zukunft säen»\n\nPfarrer Jan Niemeier\, Pfarrerin Katha
 rina Thieme\, Katechetin Corinne Schwartz\, PH6 Jugendliche\nMusik Sven An
 gelo Mindeci\, Akkordeon\n\nAnschliessend Suppenessen im Kirchgemeindehaus
 \nDie Bündner Gerstensuppe (Fleisch und Vegi) wird gekocht von den Hobbykö
 chen Seengen.\n\nRichtpreis für Suppe\, Getränke\, Dessert\, Kaffee: Erwac
 hsene 20 Fr. /Jugendliche 10 Fr. Alle Einnahmen des Benefizessens gehen an
 s HEKS.\nDie Agenda zur Kampagne liegt in den Kirchen Egliswil und Seengen
  sowie im Kirchgemeindehaus zum Mitnehmen auf.\nFlyer Gottesdienst zur öku
 m. Kampagne\, Suppenessen.pdf\n 
DTSTART:20260301T110000
DTEND:20260301T130000
LOCATION:Ref. Kirche Seengen
ORGANIZER:MAILTO:Reformierte Kirche Seengen <info@kirche-seengen.ch>
SUMMARY:Gottesdienst zur ökum. Kampagne / Suppenessen
END:VEVENT
END:VCALENDAR
